BEGIN:VCALENDAR
VERSION:2.0
PRODID:-//BSEH - Berufsschule für Einzelhandel - ECPv6.15.12.2//NONSGML v1.0//EN
CALSCALE:GREGORIAN
METHOD:PUBLISH
X-WR-CALNAME:BSEH - Berufsschule für Einzelhandel
X-ORIGINAL-URL:https://bseh.at
X-WR-CALDESC:Veranstaltungen für BSEH - Berufsschule für Einzelhandel
REFRESH-INTERVAL;VALUE=DURATION:PT1H
X-Robots-Tag:noindex
X-PUBLISHED-TTL:PT1H
BEGIN:VTIMEZONE
TZID:Europe/Berlin
BEGIN:DAYLIGHT
TZOFFSETFROM:+0100
TZOFFSETTO:+0200
TZNAME:CEST
DTSTART:20250330T010000
END:DAYLIGHT
BEGIN:STANDARD
TZOFFSETFROM:+0200
TZOFFSETTO:+0100
TZNAME:CET
DTSTART:20251026T010000
END:STANDARD
BEGIN:DAYLIGHT
TZOFFSETFROM:+0100
TZOFFSETTO:+0200
TZNAME:CEST
DTSTART:20260329T010000
END:DAYLIGHT
BEGIN:STANDARD
TZOFFSETFROM:+0200
TZOFFSETTO:+0100
TZNAME:CET
DTSTART:20261025T010000
END:STANDARD
BEGIN:DAYLIGHT
TZOFFSETFROM:+0100
TZOFFSETTO:+0200
TZNAME:CEST
DTSTART:20270328T010000
END:DAYLIGHT
BEGIN:STANDARD
TZOFFSETFROM:+0200
TZOFFSETTO:+0100
TZNAME:CET
DTSTART:20271031T010000
END:STANDARD
END:VTIMEZONE
BEGIN:VEVENT
DTSTART;VALUE=DATE:20260427
DTEND;VALUE=DATE:20260501
DTSTAMP:20260425T152328
CREATED:20260218T092339Z
LAST-MODIFIED:20260218T092339Z
UID:2365-1777248000-1777593599@bseh.at
SUMMARY:Schularbeiten - VP
DESCRIPTION:
URL:https://bseh.at/event/schularbeiten-vp/
END:VEVENT
BEGIN:VEVENT
DTSTART;VALUE=DATE:20260501
DTEND;VALUE=DATE:20260502
DTSTAMP:20260425T152328
CREATED:20260212T083527Z
LAST-MODIFIED:20260212T083527Z
UID:2345-1777593600-1777679999@bseh.at
SUMMARY:STAATSFEIERTAG
DESCRIPTION:
URL:https://bseh.at/event/staatsfeiertag/
END:VEVENT
BEGIN:VEVENT
DTSTART;VALUE=DATE:20260508
DTEND;VALUE=DATE:20260509
DTSTAMP:20260425T152328
CREATED:20260218T092406Z
LAST-MODIFIED:20260218T092406Z
UID:2367-1778198400-1778284799@bseh.at
SUMMARY:Schularbeiten - VP
DESCRIPTION:
URL:https://bseh.at/event/schularbeiten-vp-2/
END:VEVENT
BEGIN:VEVENT
DTSTART;VALUE=DATE:20260525
DTEND;VALUE=DATE:20260528
DTSTAMP:20260425T152328
CREATED:20260212T084131Z
LAST-MODIFIED:20260302T145149Z
UID:2354-1779667200-1779926399@bseh.at
SUMMARY:PFINGSTFERIEN - schulfrei
DESCRIPTION:
URL:https://bseh.at/event/pfingstferien-schulfrei/
END:VEVENT
BEGIN:VEVENT
DTSTART;VALUE=DATE:20260604
DTEND;VALUE=DATE:20260606
DTSTAMP:20260425T152328
CREATED:20260212T084344Z
LAST-MODIFIED:20260212T084344Z
UID:2356-1780531200-1780703999@bseh.at
SUMMARY:FRONLEICHNAM - schulfrei
DESCRIPTION:
URL:https://bseh.at/event/fronleichnam-schulfrei/
END:VEVENT
BEGIN:VEVENT
DTSTART;VALUE=DATE:20260605
DTEND;VALUE=DATE:20260606
DTSTAMP:20260425T152328
CREATED:20260212T084006Z
LAST-MODIFIED:20260227T115642Z
UID:2351-1780617600-1780703999@bseh.at
SUMMARY:Schulautonomer Tag - schulfrei
DESCRIPTION:
URL:https://bseh.at/event/christi-himmelfahrt-schulfrei/
END:VEVENT
BEGIN:VEVENT
DTSTART;VALUE=DATE:20260703
DTEND;VALUE=DATE:20260704
DTSTAMP:20260425T152328
CREATED:20260218T093851Z
LAST-MODIFIED:20260218T093851Z
UID:2369-1783036800-1783123199@bseh.at
SUMMARY:Letzter Schultag
DESCRIPTION:
URL:https://bseh.at/event/letzter-schultag/
END:VEVENT
BEGIN:VEVENT
DTSTART;VALUE=DATE:20260706
DTEND;VALUE=DATE:20260907
DTSTAMP:20260425T152328
CREATED:20260212T084429Z
LAST-MODIFIED:20260218T093749Z
UID:2358-1783296000-1788739199@bseh.at
SUMMARY:SOMMERFERIEN
DESCRIPTION:
URL:https://bseh.at/event/sommerferien/
END:VEVENT
END:VCALENDAR